BEGIN:VCALENDAR
VERSION:2.0
PRODID:-//Amora Community - ECPv6.15.20//NONSGML v1.0//EN
CALSCALE:GREGORIAN
METHOD:PUBLISH
X-WR-CALNAME:Amora Community
X-ORIGINAL-URL:https://amora.cr
X-WR-CALDESC:Events for Amora Community
REFRESH-INTERVAL;VALUE=DURATION:PT1H
X-Robots-Tag:noindex
X-PUBLISHED-TTL:PT1H
BEGIN:VTIMEZONE
TZID:America/Costa_Rica
BEGIN:STANDARD
TZOFFSETFROM:-0600
TZOFFSETTO:-0600
TZNAME:CST
DTSTART:20250101T000000
END:STANDARD
END:VTIMEZONE
BEGIN:VEVENT
DTSTART;TZID=America/Costa_Rica:20260501T110000
DTEND;TZID=America/Costa_Rica:20260501T120000
DTSTAMP:20260419T080053
CREATED:20260309T200825Z
LAST-MODIFIED:20260309T201016Z
UID:10000470-1777633200-1777636800@amora.cr
SUMMARY:Discover Amora: Webinar + Q&A
DESCRIPTION:Are you excited to discover Amora? Join us for an exclusive webinar. We’ll introduce you to Amora Community—a regenerative eco village on sacred land in Costa Rica. Here\, women lead the creation of a thriving\, multigenerational home. \n  \nWhat to Expect\nIn this webinar\, you’ll explore what makes Amora unique. We’ve designed a heart-centered community for families. We seek deep connection with nature\, conscious living\, and authentic belonging. \nLearn everything about Amora. Experience who we are. Imagine your life here. We’re excited to meet you. \n\nWhat You’ll Discover\n\nThe vision and values guiding Amora’s regenerative ecosystem\nOur innovative Shared Stewardship model\nHow this model eliminates most personal expenses\nHow it generates collective prosperity\nThe conscious\, family-centered lifestyle we’re building together\nDetails on becoming part of this transformative community\n\n\nYour Facilitator\nJessica Fillkins – Founder of Amora \n\nWebinar Structure\nWe’ll begin by an opening meditation\, connecting together and sharing an information slide show. Then we’ll open the floor for a dedicated Q&A session. Your questions matter—all are welcome here. \n\nWho Should Attend\nThis webinar is designed for you—whether you’re: \n\nA family seeking community\nA couple exploring conscious living\nExcited to collaborate or partner with Amora\nSimply curious about regenerative villages\n\n\nWhy Attend\nThis is a great space to get to know us. Experience whether Amora speaks to your heart. We’re here to answer your questions. We’ll share our story. Together\, we’ll explore if this community could be your home. \n  \nWe’re excited to meet you here! 
URL:https://amora.cr/event/discover-amora-webinar-qa-3/2026-05-01/
CATEGORIES:Webinar
ATTACH;FMTTYPE=image/jpeg:https://amora.cr/wp-content/uploads/2026/02/Webinar.jpg
END:VEVENT
BEGIN:VEVENT
DTSTART;TZID=America/Costa_Rica:20260605T110000
DTEND;TZID=America/Costa_Rica:20260605T120000
DTSTAMP:20260419T080053
CREATED:20251115T200209Z
LAST-MODIFIED:20260218T213850Z
UID:10000199-1780657200-1780660800@amora.cr
SUMMARY:Discover Amora: Webinar + Q&A
DESCRIPTION:Are you excited to discover Amora? Join us for an exclusive webinar. We’ll introduce you to Amora Community—a regenerative eco village on sacred land in Costa Rica. Here\, women lead the creation of a thriving\, multigenerational home. \n  \nWhat to Expect\nIn this webinar\, you’ll explore what makes Amora unique. We’ve designed a heart-centered community for families. We seek deep connection with nature\, conscious living\, and authentic belonging. \nLearn everything about Amora. Experience who we are. Imagine your life here. We’re excited to meet you. \n\nWhat You’ll Discover\n\nThe vision and values guiding Amora’s regenerative ecosystem\nOur innovative Shared Stewardship model\nHow this model eliminates most personal expenses\nHow it generates collective prosperity\nThe conscious\, family-centered lifestyle we’re building together\nDetails on becoming part of this transformative community\n\n\nYour Facilitator\nJessica Fillkins – Founder of Amora \n\nWebinar Structure\nWe’ll begin by an opening meditation\, connecting together and sharing an information slide show. Then we’ll open the floor for a dedicated Q&A session. Your questions matter—all are welcome here. \n\nWho Should Attend\nThis webinar is designed for you—whether you’re: \n\nA family seeking community\nA couple exploring conscious living\nExcited to collaborate or partner with Amora\nSimply curious about regenerative villages\n\n\nWhy Attend\nThis is a great space to get to know us. Experience whether Amora speaks to your heart. We’re here to answer your questions. We’ll share our story. Together\, we’ll explore if this community could be your home. \n  \nWe’re excited to meet you here! 
URL:https://amora.cr/event/discover-amora-webinar-qa/2026-06-05/
CATEGORIES:Webinar
ATTACH;FMTTYPE=image/jpeg:https://amora.cr/wp-content/uploads/2026/02/Webinar.jpg
END:VEVENT
BEGIN:VEVENT
DTSTART;TZID=America/Costa_Rica:20260605T110000
DTEND;TZID=America/Costa_Rica:20260605T120000
DTSTAMP:20260419T080053
CREATED:20260309T200825Z
LAST-MODIFIED:20260309T201016Z
UID:10000471-1780657200-1780660800@amora.cr
SUMMARY:Discover Amora: Webinar + Q&A
DESCRIPTION:Are you excited to discover Amora? Join us for an exclusive webinar. We’ll introduce you to Amora Community—a regenerative eco village on sacred land in Costa Rica. Here\, women lead the creation of a thriving\, multigenerational home. \n  \nWhat to Expect\nIn this webinar\, you’ll explore what makes Amora unique. We’ve designed a heart-centered community for families. We seek deep connection with nature\, conscious living\, and authentic belonging. \nLearn everything about Amora. Experience who we are. Imagine your life here. We’re excited to meet you. \n\nWhat You’ll Discover\n\nThe vision and values guiding Amora’s regenerative ecosystem\nOur innovative Shared Stewardship model\nHow this model eliminates most personal expenses\nHow it generates collective prosperity\nThe conscious\, family-centered lifestyle we’re building together\nDetails on becoming part of this transformative community\n\n\nYour Facilitator\nJessica Fillkins – Founder of Amora \n\nWebinar Structure\nWe’ll begin by an opening meditation\, connecting together and sharing an information slide show. Then we’ll open the floor for a dedicated Q&A session. Your questions matter—all are welcome here. \n\nWho Should Attend\nThis webinar is designed for you—whether you’re: \n\nA family seeking community\nA couple exploring conscious living\nExcited to collaborate or partner with Amora\nSimply curious about regenerative villages\n\n\nWhy Attend\nThis is a great space to get to know us. Experience whether Amora speaks to your heart. We’re here to answer your questions. We’ll share our story. Together\, we’ll explore if this community could be your home. \n  \nWe’re excited to meet you here! 
URL:https://amora.cr/event/discover-amora-webinar-qa-3/2026-06-05/
CATEGORIES:Webinar
ATTACH;FMTTYPE=image/jpeg:https://amora.cr/wp-content/uploads/2026/02/Webinar.jpg
END:VEVENT
BEGIN:VEVENT
DTSTART;TZID=America/Costa_Rica:20260703T110000
DTEND;TZID=America/Costa_Rica:20260703T120000
DTSTAMP:20260419T080053
CREATED:20260309T200825Z
LAST-MODIFIED:20260309T201016Z
UID:10000472-1783076400-1783080000@amora.cr
SUMMARY:Discover Amora: Webinar + Q&A
DESCRIPTION:Are you excited to discover Amora? Join us for an exclusive webinar. We’ll introduce you to Amora Community—a regenerative eco village on sacred land in Costa Rica. Here\, women lead the creation of a thriving\, multigenerational home. \n  \nWhat to Expect\nIn this webinar\, you’ll explore what makes Amora unique. We’ve designed a heart-centered community for families. We seek deep connection with nature\, conscious living\, and authentic belonging. \nLearn everything about Amora. Experience who we are. Imagine your life here. We’re excited to meet you. \n\nWhat You’ll Discover\n\nThe vision and values guiding Amora’s regenerative ecosystem\nOur innovative Shared Stewardship model\nHow this model eliminates most personal expenses\nHow it generates collective prosperity\nThe conscious\, family-centered lifestyle we’re building together\nDetails on becoming part of this transformative community\n\n\nYour Facilitator\nJessica Fillkins – Founder of Amora \n\nWebinar Structure\nWe’ll begin by an opening meditation\, connecting together and sharing an information slide show. Then we’ll open the floor for a dedicated Q&A session. Your questions matter—all are welcome here. \n\nWho Should Attend\nThis webinar is designed for you—whether you’re: \n\nA family seeking community\nA couple exploring conscious living\nExcited to collaborate or partner with Amora\nSimply curious about regenerative villages\n\n\nWhy Attend\nThis is a great space to get to know us. Experience whether Amora speaks to your heart. We’re here to answer your questions. We’ll share our story. Together\, we’ll explore if this community could be your home. \n  \nWe’re excited to meet you here! 
URL:https://amora.cr/event/discover-amora-webinar-qa-3/2026-07-03/
CATEGORIES:Webinar
ATTACH;FMTTYPE=image/jpeg:https://amora.cr/wp-content/uploads/2026/02/Webinar.jpg
END:VEVENT
BEGIN:VEVENT
DTSTART;TZID=America/Costa_Rica:20260807T110000
DTEND;TZID=America/Costa_Rica:20260807T120000
DTSTAMP:20260419T080053
CREATED:20260309T200825Z
LAST-MODIFIED:20260309T201016Z
UID:10000473-1786100400-1786104000@amora.cr
SUMMARY:Discover Amora: Webinar + Q&A
DESCRIPTION:Are you excited to discover Amora? Join us for an exclusive webinar. We’ll introduce you to Amora Community—a regenerative eco village on sacred land in Costa Rica. Here\, women lead the creation of a thriving\, multigenerational home. \n  \nWhat to Expect\nIn this webinar\, you’ll explore what makes Amora unique. We’ve designed a heart-centered community for families. We seek deep connection with nature\, conscious living\, and authentic belonging. \nLearn everything about Amora. Experience who we are. Imagine your life here. We’re excited to meet you. \n\nWhat You’ll Discover\n\nThe vision and values guiding Amora’s regenerative ecosystem\nOur innovative Shared Stewardship model\nHow this model eliminates most personal expenses\nHow it generates collective prosperity\nThe conscious\, family-centered lifestyle we’re building together\nDetails on becoming part of this transformative community\n\n\nYour Facilitator\nJessica Fillkins – Founder of Amora \n\nWebinar Structure\nWe’ll begin by an opening meditation\, connecting together and sharing an information slide show. Then we’ll open the floor for a dedicated Q&A session. Your questions matter—all are welcome here. \n\nWho Should Attend\nThis webinar is designed for you—whether you’re: \n\nA family seeking community\nA couple exploring conscious living\nExcited to collaborate or partner with Amora\nSimply curious about regenerative villages\n\n\nWhy Attend\nThis is a great space to get to know us. Experience whether Amora speaks to your heart. We’re here to answer your questions. We’ll share our story. Together\, we’ll explore if this community could be your home. \n  \nWe’re excited to meet you here! 
URL:https://amora.cr/event/discover-amora-webinar-qa-3/2026-08-07/
CATEGORIES:Webinar
ATTACH;FMTTYPE=image/jpeg:https://amora.cr/wp-content/uploads/2026/02/Webinar.jpg
END:VEVENT
BEGIN:VEVENT
DTSTART;TZID=America/Costa_Rica:20260904T110000
DTEND;TZID=America/Costa_Rica:20260904T120000
DTSTAMP:20260419T080053
CREATED:20260309T200825Z
LAST-MODIFIED:20260309T201016Z
UID:10000474-1788519600-1788523200@amora.cr
SUMMARY:Discover Amora: Webinar + Q&A
DESCRIPTION:Are you excited to discover Amora? Join us for an exclusive webinar. We’ll introduce you to Amora Community—a regenerative eco village on sacred land in Costa Rica. Here\, women lead the creation of a thriving\, multigenerational home. \n  \nWhat to Expect\nIn this webinar\, you’ll explore what makes Amora unique. We’ve designed a heart-centered community for families. We seek deep connection with nature\, conscious living\, and authentic belonging. \nLearn everything about Amora. Experience who we are. Imagine your life here. We’re excited to meet you. \n\nWhat You’ll Discover\n\nThe vision and values guiding Amora’s regenerative ecosystem\nOur innovative Shared Stewardship model\nHow this model eliminates most personal expenses\nHow it generates collective prosperity\nThe conscious\, family-centered lifestyle we’re building together\nDetails on becoming part of this transformative community\n\n\nYour Facilitator\nJessica Fillkins – Founder of Amora \n\nWebinar Structure\nWe’ll begin by an opening meditation\, connecting together and sharing an information slide show. Then we’ll open the floor for a dedicated Q&A session. Your questions matter—all are welcome here. \n\nWho Should Attend\nThis webinar is designed for you—whether you’re: \n\nA family seeking community\nA couple exploring conscious living\nExcited to collaborate or partner with Amora\nSimply curious about regenerative villages\n\n\nWhy Attend\nThis is a great space to get to know us. Experience whether Amora speaks to your heart. We’re here to answer your questions. We’ll share our story. Together\, we’ll explore if this community could be your home. \n  \nWe’re excited to meet you here! 
URL:https://amora.cr/event/discover-amora-webinar-qa-3/2026-09-04/
CATEGORIES:Webinar
ATTACH;FMTTYPE=image/jpeg:https://amora.cr/wp-content/uploads/2026/02/Webinar.jpg
END:VEVENT
END:VCALENDAR