BEGIN:VCALENDAR
VERSION:2.0
PRODID:-//Amora Community - ECPv6.15.20//NONSGML v1.0//EN
CALSCALE:GREGORIAN
METHOD:PUBLISH
X-WR-CALNAME:Amora Community
X-ORIGINAL-URL:https://amora.cr
X-WR-CALDESC:Events for Amora Community
REFRESH-INTERVAL;VALUE=DURATION:PT1H
X-Robots-Tag:noindex
X-PUBLISHED-TTL:PT1H
BEGIN:VTIMEZONE
TZID:America/Costa_Rica
BEGIN:STANDARD
TZOFFSETFROM:-0600
TZOFFSETTO:-0600
TZNAME:CST
DTSTART:20250101T000000
END:STANDARD
END:VTIMEZONE
BEGIN:VEVENT
DTSTART;TZID=America/Costa_Rica:20260227T150000
DTEND;TZID=America/Costa_Rica:20260227T180000
DTSTAMP:20260419T151443
CREATED:20260216T160032Z
LAST-MODIFIED:20260220T202207Z
UID:10000200-1772204400-1772215200@amora.cr
SUMMARY:Amora Land Tour for Envision Community
DESCRIPTION:Step into our 266-acre living paradise in Dominicalito\, Costa Rica. Here women are birthing a thriving eco-village weaving regenerative living\, permaculture\, wellness\, multi-generational living\, and the magic of living together. \n(Just 12 minutes by car from Envision Festival at Uvita)\n \nWander lush jungle corridors and open meadows\, dip into flowing rivers\, and gaze from ocean-view ridges as you envision your place in this regenerative village. You are invited not just to visit\, but to feel what it’s like to belong. \nWhat to Expect\n\n\nRefresh in the cool\, pristine waters of our rivers. \n\n\nWitness a breathtaking sunset over the landscape. \n\n\nReconnect with nature\, community\, and yourself in our open-hearted sanctuary. \n\n\nExplore the land\, feel the magic\, and witness the regenerative vision coming alive. \n\n\n\n\n\n\n\n\n\nWe love welcoming Envision attendees to experience a grounded sense of homecoming in nature — a place to land\, exhale\, and remember what it feels like to be held by community and the Earth. \n\nSign up\nTo sign up please sign our Liability Waiver and we will send you the location and event details. \nWe can’t wait to welcome you home!♡
URL:https://amora.cr/event/amora-land-tour-for-envision-community/2026-02-27/
LOCATION:Amora Regenerative Eco Village\, Dominicalito\, Costa Rica
CATEGORIES:On the Land
ATTACH;FMTTYPE=image/jpeg:https://amora.cr/wp-content/uploads/2026/02/Amora-Sunset-Landtour.jpg
END:VEVENT
END:VCALENDAR