BEGIN:VCALENDAR
VERSION:2.0
PRODID:-//Amora Community - ECPv6.15.20//NONSGML v1.0//EN
CALSCALE:GREGORIAN
METHOD:PUBLISH
X-WR-CALNAME:Amora Community
X-ORIGINAL-URL:https://amora.cr
X-WR-CALDESC:Events for Amora Community
REFRESH-INTERVAL;VALUE=DURATION:PT1H
X-Robots-Tag:noindex
X-PUBLISHED-TTL:PT1H
BEGIN:VTIMEZONE
TZID:America/Costa_Rica
BEGIN:STANDARD
TZOFFSETFROM:-0600
TZOFFSETTO:-0600
TZNAME:CST
DTSTART:20250101T000000
END:STANDARD
END:VTIMEZONE
BEGIN:VEVENT
DTSTART;TZID=America/Costa_Rica:20260325T160000
DTEND;TZID=America/Costa_Rica:20260325T210000
DTSTAMP:20260419T115902
CREATED:20260219T172027Z
LAST-MODIFIED:20260225T143307Z
UID:10000023-1774454400-1774472400@amora.cr
SUMMARY:Weekly Community Potluck at Amora -  Food\, Connection & Music
DESCRIPTION:We love to welcome you to our weekly potluck at Amora. Followed by intentional fire with music\, songs\, and deep connection. \n\nWhat to Expect\nWe’ll gather as the sun begins to set. Share a meal together. Connect over food and conversation. Then we’ll gather around the fire. Music. Songs. Stories. Authentic presence. All are welcome. \n\nThe Experience\nPotluck\nBring a dish to share. We celebrate diverse cuisines and nourish each other together. \nSunset Setting\nGather on our sacred land as day transitions to evening. Witness the magic as the sun sets over the ocean. \nIntentional Fire\nCircle around the fire. Sing together. Share music and songs. Practice authentic connection. Feel the warmth and presence of community. \nWhy Attend\n\nConnect with Amora community\n\nShare a meaningful potluck\n\nGather around fire with music and songs\n\nExperience authentic connection\n\nFeel the energy of our sacred land\n\nDiscover if Amora resonates with your heart\n\nJoin a weekly tradition of belonging\n\nWhat to Bring\n\nA dish to share (any cuisine welcome)\nDrinking water\nYour own bowl/plate and utensils\nYour authentic self\nAn instrument or song if you’d like to share\nOpen heart\nPlease note: No dogs after dark for safety\n\nWho Should Attend\n\nCommunity members and residents\nProspective residents and families\nMusicians and singers welcome\nAll are welcome here\n\n\nThis is where we belong. Gather with us. Share a meal. Sit around the fire. Sing with us. Experience community at its heart.
URL:https://amora.cr/event/community-potluck-at-amora-3/2026-03-25/
LOCATION:Amora Regenerative Eco Village\, Dominicalito\, Costa Rica
CATEGORIES:On the Land,Potluck
ATTACH;FMTTYPE=image/jpeg:https://amora.cr/wp-content/uploads/2025/11/Potluck.jpg
END:VEVENT
END:VCALENDAR