BEGIN:VCALENDAR
VERSION:2.0
PRODID:-//Amora Community - ECPv6.15.20//NONSGML v1.0//EN
CALSCALE:GREGORIAN
METHOD:PUBLISH
X-WR-CALNAME:Amora Community
X-ORIGINAL-URL:https://amora.cr
X-WR-CALDESC:Events for Amora Community
REFRESH-INTERVAL;VALUE=DURATION:PT1H
X-Robots-Tag:noindex
X-PUBLISHED-TTL:PT1H
BEGIN:VTIMEZONE
TZID:America/Costa_Rica
BEGIN:STANDARD
TZOFFSETFROM:-0600
TZOFFSETTO:-0600
TZNAME:CST
DTSTART:20250101T000000
END:STANDARD
END:VTIMEZONE
BEGIN:VEVENT
DTSTART;TZID=America/Costa_Rica:20260110T100000
DTEND;TZID=America/Costa_Rica:20260110T130000
DTSTAMP:20260419T151328
CREATED:20251115T202842Z
LAST-MODIFIED:20260215T125613Z
UID:10000003-1768039200-1768050000@amora.cr
SUMMARY:Family Community Day – A Day of Nature and Connection
DESCRIPTION:Are you ready to experience Amora as a family? Join us for a Family Community Day on sacred land. Here\, you’ll connect with nature\, each other\, and our growing Amora community. \nWhat to Expect\nWe’ll begin by gathering together on our sacred land. Next\, your children will join nature-based activities designed for kids. Meanwhile\, you’ll connect with the Amora family. Then we’ll come together for community time. All your questions are welcome. \nNature-Based Kids Activities\nLeaf-print art\, natural clay sculpting\, forest scavenger hunts\, mindful movement in the trees. Weekly adventures spark curiosity\, connection\, and joy. \nFamily Connection\nExplore sacred land together. Meet the Amora community. Feel heart-centered connection. Slow down\, breathe deeply\, reconnect with what matters most. \nWhole-Family Bonding\nFamilies thrive when rooted in nature\, each other\, and community. Experience this regenerative way of belonging firsthand. \nWhy Attend\nThis is your chance to experience Amora as a family. Feel the energy and spirit of our sacred land. Connect with people building regenerative community together. Discover if Amora could be your family’s home. \nWho Should Attend\n\nFamilies with children\nParents exploring conscious community living\nFamilies seeking nature connection\nAnyone curious about multigenerational belonging\nThose wanting to experience Amora’s spirit\n\nWhat to Bring\n\nOpen hearts and curiosity\nComfortable clothes for outdoor play\nWater and sun protection\nQuestions and wonder\n\n\nWe are excited to see you! \nThis is more than a community day. It’s an invitation to experience what family life looks like at Amora. Come explore our sacred land. Watch your children play in nature. Feel what belonging means here. We can’t wait to welcome your family. \nConnect. Play. Belong. Experience Amora.
URL:https://amora.cr/event/family-community-day/2026-01-10/
LOCATION:Amora Regenerative Eco Village\, Dominicalito\, Costa Rica
CATEGORIES:Family Day,On the Land
ATTACH;FMTTYPE=image/jpeg:https://amora.cr/wp-content/uploads/2025/11/FEBRUARY-8.jpg
END:VEVENT
END:VCALENDAR