BEGIN:VCALENDAR
VERSION:2.0
PRODID:-//Amora Community - ECPv6.15.20//NONSGML v1.0//EN
CALSCALE:GREGORIAN
METHOD:PUBLISH
X-WR-CALNAME:Amora Community
X-ORIGINAL-URL:https://amora.cr
X-WR-CALDESC:Events for Amora Community
REFRESH-INTERVAL;VALUE=DURATION:PT1H
X-Robots-Tag:noindex
X-PUBLISHED-TTL:PT1H
BEGIN:VTIMEZONE
TZID:America/Costa_Rica
BEGIN:STANDARD
TZOFFSETFROM:-0600
TZOFFSETTO:-0600
TZNAME:CST
DTSTART:20250101T000000
END:STANDARD
END:VTIMEZONE
BEGIN:VEVENT
DTSTART;TZID=America/Costa_Rica:20260103T150000
DTEND;TZID=America/Costa_Rica:20260103T210000
DTSTAMP:20260419T134154
CREATED:20251229T183638Z
LAST-MODIFIED:20251229T213031Z
UID:2153-1767452400-1767474000@amora.cr
SUMMARY:Full moon Party at Amora
DESCRIPTION:We warmly welcome you to celebrate the first full moon of the New Year with us. An evening of dance\, singing\, and connection under the moonlight on our sacred land. \n\nWhat to Expect\nWe’ll gather in the afternoon as the day unfolds into evening. Move your body in dance\, share a meal as the sun sets\, and share your voice and instrument around the fire. A celebration of rhythm\, presence\, and the beauty of community. \n\nThe Experience\nWelcome\nArrive from 3:00 PM onward to settle in and connect with the land and each other. \nEcstatic Dance\nLet your spirit move freely with a live Ecstatic Dance set by DJ Aysho from 4:00–5:00 PM. Dance as a form of release\, joy\, and embodiment before the sun begins to set. \nSunset Potluck\nWith sunset we gather to share a diverse feast. Bring a dish to share\, while we nourish one another through food and connection. \nSinging Circle Around the Fire\nAs night falls\, circle around the fire for a singing and music circle under the full moon. Connecting our hearts by sharing our voices and instruments. \nWhy Attend\n\nCelebrate the energy of the full moon with the Amora community\n\nShare a meaningful potluck\n\nGather around fire with music and songs\n\nDance\, sing and enjoy life together!\n\nLocation\nSacred Land at Amora\, Dominicalito\, Costa Rica \nWhat to Bring\n\nA dish to share (any cuisine welcome)\nYour authentic self\nAn instrument or song if you’d like to share\nOpen heart\n\nWho Should Attend\n\nCommunity members and residents\nFriends\, travelers\, musicians\, and anyone drawn to gather in spirit\nAll are welcome here\n\nWe are excited to celebrate the first full moon of the year with you!
URL:https://amora.cr/event/fullmoon-party-amora/
LOCATION:Amora Regenerative Eco Village\, Dominicalito\, Costa Rica
CATEGORIES:On the Land,Potluck
ATTACH;FMTTYPE=image/jpeg:https://amora.cr/wp-content/uploads/2025/12/community-full-moon-gathering-at-amora-in-costa-rica.jpg
END:VEVENT
END:VCALENDAR