BEGIN:VCALENDAR
VERSION:2.0
PRODID:-//Amora Community - ECPv6.15.20//NONSGML v1.0//EN
CALSCALE:GREGORIAN
METHOD:PUBLISH
X-WR-CALNAME:Amora Community
X-ORIGINAL-URL:https://amora.cr
X-WR-CALDESC:Events for Amora Community
REFRESH-INTERVAL;VALUE=DURATION:PT1H
X-Robots-Tag:noindex
X-PUBLISHED-TTL:PT1H
BEGIN:VTIMEZONE
TZID:America/Costa_Rica
BEGIN:STANDARD
TZOFFSETFROM:-0600
TZOFFSETTO:-0600
TZNAME:CST
DTSTART:20260101T000000
END:STANDARD
END:VTIMEZONE
BEGIN:VEVENT
DTSTART;TZID=America/Costa_Rica:20270113T150000
DTEND;TZID=America/Costa_Rica:20270113T160000
DTSTAMP:20260419T175311
CREATED:20260202T203424Z
LAST-MODIFIED:20260225T143535Z
UID:10000255-1799852400-1799856000@amora.cr
SUMMARY:Amora Land Tour by Car
DESCRIPTION:Join us for the Amora Land Tour (part of our weeklong Village Weaving Gathering: open to all)\, a guided\, immersive journey across our living landscape. \nTogether\, we’ll explore Amora by car\, discovering the land in all its diversity: from forest‑like jungle corridors and flowing rivers to expansive meadows and stunning ocean‑view plots. \nWhat to Expect\nThis guided tour takes you across Amora’s property\, with stops along the way to take in the scenery and learn about our regenerative vision. You’ll visit key areas such as the community centre\, retreat space and school zone\, residential areas\, rivers\, and breathtaking ocean‑view lookouts. As we drive\, you’ll gain a sense of the land’s layout\, natural diversity\, and the unfolding story of how Amora is coming to life as a regenerative eco‑village. \nWhy Attend\n\n\nExperience the full landscape and flow of Amora \n\n\nLearn about our design for regeneration\, education\, and connection \n\n\nConnect with the land and vision behind Amora Regenerative Village \n\n\nLocation\nAmora Regenerative Village\, Dominicalito\, Costa Rica \nWho Should Attend\n\n\nFamilies and individuals exploring regenerative community living \n\n\nPotential residents or collaborators of Amora \n\n\nNature lovers and eco-village enthusiasts \n\n\n\nThis is a time to connect: with the land\, the vision\, and each other.\nCome see how Amora’s landscape is shaping a new way of living in harmony with nature.
URL:https://amora.cr/event/land-tour-by-car/2027-01-13/
LOCATION:Amora Regenerative Eco Village\, Dominicalito\, Costa Rica
CATEGORIES:On the Land,Village Weaving
ATTACH;FMTTYPE=image/jpeg:https://amora.cr/wp-content/uploads/2026/02/Land-Tour-3.jpg
END:VEVENT
END:VCALENDAR