BEGIN:VCALENDAR
VERSION:2.0
PRODID:-//Amora Community - ECPv6.15.20//NONSGML v1.0//EN
CALSCALE:GREGORIAN
METHOD:PUBLISH
X-WR-CALNAME:Amora Community
X-ORIGINAL-URL:https://amora.cr
X-WR-CALDESC:Events for Amora Community
REFRESH-INTERVAL;VALUE=DURATION:PT1H
X-Robots-Tag:noindex
X-PUBLISHED-TTL:PT1H
BEGIN:VTIMEZONE
TZID:America/Costa_Rica
BEGIN:STANDARD
TZOFFSETFROM:-0600
TZOFFSETTO:-0600
TZNAME:CST
DTSTART:20250101T000000
END:STANDARD
END:VTIMEZONE
BEGIN:VEVENT
DTSTART;TZID=America/Costa_Rica:20260204T160000
DTEND;TZID=America/Costa_Rica:20260204T210000
DTSTAMP:20260419T121523
CREATED:20251115T210420Z
LAST-MODIFIED:20260219T171522Z
UID:10000016-1770220800-1770238800@amora.cr
SUMMARY:Weekly Community Potluck at Amora -  Food\, Connection & Music
DESCRIPTION:We love to welcome you to our weekly potluck at Amora. Followed by intentional fire with music\, songs\, and deep connection. \n\nWhat to Expect\nWe’ll gather as the sun begins to set. Share a meal together. Connect over food and conversation. Then we’ll gather around the fire. Music. Songs. Stories. Authentic presence. All are welcome. \n\nThe Experience\nPotluck\nBring a dish to share. We celebrate diverse cuisines and nourish each other together. \nSunset Setting\nGather on our sacred land as day transitions to evening. Witness the magic as the sun sets over the ocean. \nIntentional Fire\nCircle around the fire. Sing together. Share music and songs. Practice authentic connection. Feel the warmth and presence of community. \nWhy Attend\n\nConnect with Amora community\n\nShare a meaningful potluck\n\nGather around fire with music and songs\n\nExperience authentic connection\n\nFeel the energy of our sacred land\n\nDiscover if Amora resonates with your heart\n\nJoin a weekly tradition of belonging\n\nWhat to Bring\n\nA dish to share (any cuisine welcome)\nDrinking water\nYour own bowl/plate and utensils\nYour authentic self\nAn instrument or song if you’d like to share\nOpen heart\nPlease note: No dogs after dark for safety\n\nWho Should Attend\n\nCommunity members and residents\nProspective residents and families\nMusicians and singers welcome\nAll are welcome here\n\n\nThis is where we belong. Gather with us. Share a meal. Sit around the fire. Sing with us. Experience community at its heart.
URL:https://amora.cr/event/community-potluck-at-amora/2026-02-04/
LOCATION:Amora Regenerative Eco Village\, Dominicalito\, Costa Rica
CATEGORIES:On the Land,Potluck
ATTACH;FMTTYPE=image/jpeg:https://amora.cr/wp-content/uploads/2025/11/Potluck.jpg
END:VEVENT
BEGIN:VEVENT
DTSTART;TZID=America/Costa_Rica:20260128T160000
DTEND;TZID=America/Costa_Rica:20260128T210000
DTSTAMP:20260419T121523
CREATED:20251115T210420Z
LAST-MODIFIED:20260219T171522Z
UID:10000015-1769616000-1769634000@amora.cr
SUMMARY:Weekly Community Potluck at Amora -  Food\, Connection & Music
DESCRIPTION:We love to welcome you to our weekly potluck at Amora. Followed by intentional fire with music\, songs\, and deep connection. \n\nWhat to Expect\nWe’ll gather as the sun begins to set. Share a meal together. Connect over food and conversation. Then we’ll gather around the fire. Music. Songs. Stories. Authentic presence. All are welcome. \n\nThe Experience\nPotluck\nBring a dish to share. We celebrate diverse cuisines and nourish each other together. \nSunset Setting\nGather on our sacred land as day transitions to evening. Witness the magic as the sun sets over the ocean. \nIntentional Fire\nCircle around the fire. Sing together. Share music and songs. Practice authentic connection. Feel the warmth and presence of community. \nWhy Attend\n\nConnect with Amora community\n\nShare a meaningful potluck\n\nGather around fire with music and songs\n\nExperience authentic connection\n\nFeel the energy of our sacred land\n\nDiscover if Amora resonates with your heart\n\nJoin a weekly tradition of belonging\n\nWhat to Bring\n\nA dish to share (any cuisine welcome)\nDrinking water\nYour own bowl/plate and utensils\nYour authentic self\nAn instrument or song if you’d like to share\nOpen heart\nPlease note: No dogs after dark for safety\n\nWho Should Attend\n\nCommunity members and residents\nProspective residents and families\nMusicians and singers welcome\nAll are welcome here\n\n\nThis is where we belong. Gather with us. Share a meal. Sit around the fire. Sing with us. Experience community at its heart.
URL:https://amora.cr/event/community-potluck-at-amora/2026-01-28/
LOCATION:Amora Regenerative Eco Village\, Dominicalito\, Costa Rica
CATEGORIES:On the Land,Potluck
ATTACH;FMTTYPE=image/jpeg:https://amora.cr/wp-content/uploads/2025/11/Potluck.jpg
END:VEVENT
BEGIN:VEVENT
DTSTART;TZID=America/Costa_Rica:20260124T100000
DTEND;TZID=America/Costa_Rica:20260124T130000
DTSTAMP:20260419T121523
CREATED:20251115T202842Z
LAST-MODIFIED:20260215T125613Z
UID:10000176-1769248800-1769259600@amora.cr
SUMMARY:Family Community Day – A Day of Nature and Connection
DESCRIPTION:Are you ready to experience Amora as a family? Join us for a Family Community Day on sacred land. Here\, you’ll connect with nature\, each other\, and our growing Amora community. \nWhat to Expect\nWe’ll begin by gathering together on our sacred land. Next\, your children will join nature-based activities designed for kids. Meanwhile\, you’ll connect with the Amora family. Then we’ll come together for community time. All your questions are welcome. \nNature-Based Kids Activities\nLeaf-print art\, natural clay sculpting\, forest scavenger hunts\, mindful movement in the trees. Weekly adventures spark curiosity\, connection\, and joy. \nFamily Connection\nExplore sacred land together. Meet the Amora community. Feel heart-centered connection. Slow down\, breathe deeply\, reconnect with what matters most. \nWhole-Family Bonding\nFamilies thrive when rooted in nature\, each other\, and community. Experience this regenerative way of belonging firsthand. \nWhy Attend\nThis is your chance to experience Amora as a family. Feel the energy and spirit of our sacred land. Connect with people building regenerative community together. Discover if Amora could be your family’s home. \nWho Should Attend\n\nFamilies with children\nParents exploring conscious community living\nFamilies seeking nature connection\nAnyone curious about multigenerational belonging\nThose wanting to experience Amora’s spirit\n\nWhat to Bring\n\nOpen hearts and curiosity\nComfortable clothes for outdoor play\nWater and sun protection\nQuestions and wonder\n\n\nWe are excited to see you! \nThis is more than a community day. It’s an invitation to experience what family life looks like at Amora. Come explore our sacred land. Watch your children play in nature. Feel what belonging means here. We can’t wait to welcome your family. \nConnect. Play. Belong. Experience Amora.
URL:https://amora.cr/event/family-community-day/2026-01-24/
LOCATION:Amora Regenerative Eco Village\, Dominicalito\, Costa Rica
CATEGORIES:Family Day,On the Land
ATTACH;FMTTYPE=image/jpeg:https://amora.cr/wp-content/uploads/2025/11/FEBRUARY-8.jpg
END:VEVENT
BEGIN:VEVENT
DTSTART;TZID=America/Costa_Rica:20260121T160000
DTEND;TZID=America/Costa_Rica:20260121T210000
DTSTAMP:20260419T121523
CREATED:20251115T210420Z
LAST-MODIFIED:20260219T171522Z
UID:10000014-1769011200-1769029200@amora.cr
SUMMARY:Weekly Community Potluck at Amora -  Food\, Connection & Music
DESCRIPTION:We love to welcome you to our weekly potluck at Amora. Followed by intentional fire with music\, songs\, and deep connection. \n\nWhat to Expect\nWe’ll gather as the sun begins to set. Share a meal together. Connect over food and conversation. Then we’ll gather around the fire. Music. Songs. Stories. Authentic presence. All are welcome. \n\nThe Experience\nPotluck\nBring a dish to share. We celebrate diverse cuisines and nourish each other together. \nSunset Setting\nGather on our sacred land as day transitions to evening. Witness the magic as the sun sets over the ocean. \nIntentional Fire\nCircle around the fire. Sing together. Share music and songs. Practice authentic connection. Feel the warmth and presence of community. \nWhy Attend\n\nConnect with Amora community\n\nShare a meaningful potluck\n\nGather around fire with music and songs\n\nExperience authentic connection\n\nFeel the energy of our sacred land\n\nDiscover if Amora resonates with your heart\n\nJoin a weekly tradition of belonging\n\nWhat to Bring\n\nA dish to share (any cuisine welcome)\nDrinking water\nYour own bowl/plate and utensils\nYour authentic self\nAn instrument or song if you’d like to share\nOpen heart\nPlease note: No dogs after dark for safety\n\nWho Should Attend\n\nCommunity members and residents\nProspective residents and families\nMusicians and singers welcome\nAll are welcome here\n\n\nThis is where we belong. Gather with us. Share a meal. Sit around the fire. Sing with us. Experience community at its heart.
URL:https://amora.cr/event/community-potluck-at-amora/2026-01-21/
LOCATION:Amora Regenerative Eco Village\, Dominicalito\, Costa Rica
CATEGORIES:On the Land,Potluck
ATTACH;FMTTYPE=image/jpeg:https://amora.cr/wp-content/uploads/2025/11/Potluck.jpg
END:VEVENT
BEGIN:VEVENT
DTSTART;TZID=America/Costa_Rica:20260117T120000
DTEND;TZID=America/Costa_Rica:20260117T150000
DTSTAMP:20260419T121523
CREATED:20260116T153442Z
LAST-MODIFIED:20260116T153556Z
UID:10000180-1768651200-1768662000@amora.cr
SUMMARY:Amora Adventure Day
DESCRIPTION:Join us for a day of exploration\, connection\, and discovery. Together\, we’ll experience the shaded jungle trails\, flow with the rivers\, and experience the full magic of Amora’s living landscape. \nWhat to Expect\nWe’ll begin with a one-hour guided drive across the land\, taking in panoramic views of lush jungle\, sparkling rivers\, and breathtaking ocean vistas. Afterward\, those who wish can continue the full Adventure Day experience: hiking deeper into the jungle\, connecting with the wildlife\, and refreshing in the sacred river. \nYou’re invited to join just the Land Tour\, or enjoy the full three-hour Adventure Day. \nThe Experience\nWe’ll begin with a guided tour on the land during the first hour. Driving together to see the whole of Amora’s land. The beautiful jungle\, rivers\, and epic ocean view spaces. After the land tour\, those who wish can continue for the full Adventure Day experience: deeper exploration through hiking the shaded paths\, connecting with the wildlife\, and dipping in the refreshing river. \nYou’re welcome to join just the land tour or enjoy the full three-hour experience. \n1. Tour on the Land (First Hour)\nDrive together across Amora’s expansive land\, taking in panoramic views of lush jungle\, flowing rivers\, and breathtaking ocean vistas that make this place so special. \n2. Adventure Day Hike & River Dip (Next 2 Hours)\nContinue on foot along shaded trails beneath the jungle canopy\, encountering abundant flora\, fauna\, and wildlife. Cool off in Amora’s sacred river — flow with its waters\, refresh your body\, and merge with the land’s rhythm. \nWhy Attend\n\nDiscover Amora’s full landscape by land and foot\nConnect deeply with the land of Amora\nGet active and discover the land together\nSwim and rejuvenate in her sacred river\n\nLocation\nAmora Regenerative Village\, Dominicalito\, Costa Rica \nWho Should Attend\n\nFamilies exploring conscious community living\nPeople seeking regenerative village lifestyle\nNature lovers and adventure seekers\nFamilies and friends\nAll are welcome here\n\nWhat to Bring\n\nComfortable walking shoes (if you choose to do the adventure part)\nSun protection\nBathing suit (optional) and towel for the river dip\nWater bottle and snacks or lunch\nOpen heart and curiosity\n\n\nThis is where we reconnect. To the land. To nature. To ourselves. Come walk\, explore\, and dive into the living heartbeat of Amora.
URL:https://amora.cr/event/amora-adventure-day-2/
LOCATION:Amora Regenerative Eco Village\, Dominicalito\, Costa Rica
CATEGORIES:Adventure Hike,On the Land
ATTACH;FMTTYPE=image/jpeg:https://amora.cr/wp-content/uploads/2025/12/Amora-Adventure-Day-Costa-Rica-Hiking.jpg
END:VEVENT
BEGIN:VEVENT
DTSTART;TZID=America/Costa_Rica:20260114T160000
DTEND;TZID=America/Costa_Rica:20260114T210000
DTSTAMP:20260419T121523
CREATED:20251115T210420Z
LAST-MODIFIED:20260219T171522Z
UID:10000013-1768406400-1768424400@amora.cr
SUMMARY:Weekly Community Potluck at Amora -  Food\, Connection & Music
DESCRIPTION:We love to welcome you to our weekly potluck at Amora. Followed by intentional fire with music\, songs\, and deep connection. \n\nWhat to Expect\nWe’ll gather as the sun begins to set. Share a meal together. Connect over food and conversation. Then we’ll gather around the fire. Music. Songs. Stories. Authentic presence. All are welcome. \n\nThe Experience\nPotluck\nBring a dish to share. We celebrate diverse cuisines and nourish each other together. \nSunset Setting\nGather on our sacred land as day transitions to evening. Witness the magic as the sun sets over the ocean. \nIntentional Fire\nCircle around the fire. Sing together. Share music and songs. Practice authentic connection. Feel the warmth and presence of community. \nWhy Attend\n\nConnect with Amora community\n\nShare a meaningful potluck\n\nGather around fire with music and songs\n\nExperience authentic connection\n\nFeel the energy of our sacred land\n\nDiscover if Amora resonates with your heart\n\nJoin a weekly tradition of belonging\n\nWhat to Bring\n\nA dish to share (any cuisine welcome)\nDrinking water\nYour own bowl/plate and utensils\nYour authentic self\nAn instrument or song if you’d like to share\nOpen heart\nPlease note: No dogs after dark for safety\n\nWho Should Attend\n\nCommunity members and residents\nProspective residents and families\nMusicians and singers welcome\nAll are welcome here\n\n\nThis is where we belong. Gather with us. Share a meal. Sit around the fire. Sing with us. Experience community at its heart.
URL:https://amora.cr/event/community-potluck-at-amora/2026-01-14/
LOCATION:Amora Regenerative Eco Village\, Dominicalito\, Costa Rica
CATEGORIES:On the Land,Potluck
ATTACH;FMTTYPE=image/jpeg:https://amora.cr/wp-content/uploads/2025/11/Potluck.jpg
END:VEVENT
BEGIN:VEVENT
DTSTART;TZID=America/Costa_Rica:20260110T100000
DTEND;TZID=America/Costa_Rica:20260110T130000
DTSTAMP:20260419T121523
CREATED:20251115T202842Z
LAST-MODIFIED:20260215T125613Z
UID:10000003-1768039200-1768050000@amora.cr
SUMMARY:Family Community Day – A Day of Nature and Connection
DESCRIPTION:Are you ready to experience Amora as a family? Join us for a Family Community Day on sacred land. Here\, you’ll connect with nature\, each other\, and our growing Amora community. \nWhat to Expect\nWe’ll begin by gathering together on our sacred land. Next\, your children will join nature-based activities designed for kids. Meanwhile\, you’ll connect with the Amora family. Then we’ll come together for community time. All your questions are welcome. \nNature-Based Kids Activities\nLeaf-print art\, natural clay sculpting\, forest scavenger hunts\, mindful movement in the trees. Weekly adventures spark curiosity\, connection\, and joy. \nFamily Connection\nExplore sacred land together. Meet the Amora community. Feel heart-centered connection. Slow down\, breathe deeply\, reconnect with what matters most. \nWhole-Family Bonding\nFamilies thrive when rooted in nature\, each other\, and community. Experience this regenerative way of belonging firsthand. \nWhy Attend\nThis is your chance to experience Amora as a family. Feel the energy and spirit of our sacred land. Connect with people building regenerative community together. Discover if Amora could be your family’s home. \nWho Should Attend\n\nFamilies with children\nParents exploring conscious community living\nFamilies seeking nature connection\nAnyone curious about multigenerational belonging\nThose wanting to experience Amora’s spirit\n\nWhat to Bring\n\nOpen hearts and curiosity\nComfortable clothes for outdoor play\nWater and sun protection\nQuestions and wonder\n\n\nWe are excited to see you! \nThis is more than a community day. It’s an invitation to experience what family life looks like at Amora. Come explore our sacred land. Watch your children play in nature. Feel what belonging means here. We can’t wait to welcome your family. \nConnect. Play. Belong. Experience Amora.
URL:https://amora.cr/event/family-community-day/2026-01-10/
LOCATION:Amora Regenerative Eco Village\, Dominicalito\, Costa Rica
CATEGORIES:Family Day,On the Land
ATTACH;FMTTYPE=image/jpeg:https://amora.cr/wp-content/uploads/2025/11/FEBRUARY-8.jpg
END:VEVENT
BEGIN:VEVENT
DTSTART;TZID=America/Costa_Rica:20260107T160000
DTEND;TZID=America/Costa_Rica:20260107T210000
DTSTAMP:20260419T121523
CREATED:20251115T210420Z
LAST-MODIFIED:20260219T171522Z
UID:10000012-1767801600-1767819600@amora.cr
SUMMARY:Weekly Community Potluck at Amora -  Food\, Connection & Music
DESCRIPTION:We love to welcome you to our weekly potluck at Amora. Followed by intentional fire with music\, songs\, and deep connection. \n\nWhat to Expect\nWe’ll gather as the sun begins to set. Share a meal together. Connect over food and conversation. Then we’ll gather around the fire. Music. Songs. Stories. Authentic presence. All are welcome. \n\nThe Experience\nPotluck\nBring a dish to share. We celebrate diverse cuisines and nourish each other together. \nSunset Setting\nGather on our sacred land as day transitions to evening. Witness the magic as the sun sets over the ocean. \nIntentional Fire\nCircle around the fire. Sing together. Share music and songs. Practice authentic connection. Feel the warmth and presence of community. \nWhy Attend\n\nConnect with Amora community\n\nShare a meaningful potluck\n\nGather around fire with music and songs\n\nExperience authentic connection\n\nFeel the energy of our sacred land\n\nDiscover if Amora resonates with your heart\n\nJoin a weekly tradition of belonging\n\nWhat to Bring\n\nA dish to share (any cuisine welcome)\nDrinking water\nYour own bowl/plate and utensils\nYour authentic self\nAn instrument or song if you’d like to share\nOpen heart\nPlease note: No dogs after dark for safety\n\nWho Should Attend\n\nCommunity members and residents\nProspective residents and families\nMusicians and singers welcome\nAll are welcome here\n\n\nThis is where we belong. Gather with us. Share a meal. Sit around the fire. Sing with us. Experience community at its heart.
URL:https://amora.cr/event/community-potluck-at-amora/2026-01-07/
LOCATION:Amora Regenerative Eco Village\, Dominicalito\, Costa Rica
CATEGORIES:On the Land,Potluck
ATTACH;FMTTYPE=image/jpeg:https://amora.cr/wp-content/uploads/2025/11/Potluck.jpg
END:VEVENT
BEGIN:VEVENT
DTSTART;TZID=America/Costa_Rica:20260103T150000
DTEND;TZID=America/Costa_Rica:20260103T210000
DTSTAMP:20260419T121523
CREATED:20251229T183638Z
LAST-MODIFIED:20251229T213031Z
UID:10000094-1767452400-1767474000@amora.cr
SUMMARY:Full moon Party at Amora
DESCRIPTION:We warmly welcome you to celebrate the first full moon of the New Year with us. An evening of dance\, singing\, and connection under the moonlight on our sacred land. \n\nWhat to Expect\nWe’ll gather in the afternoon as the day unfolds into evening. Move your body in dance\, share a meal as the sun sets\, and share your voice and instrument around the fire. A celebration of rhythm\, presence\, and the beauty of community. \n\nThe Experience\nWelcome\nArrive from 3:00 PM onward to settle in and connect with the land and each other. \nEcstatic Dance\nLet your spirit move freely with a live Ecstatic Dance set by DJ Aysho from 4:00–5:00 PM. Dance as a form of release\, joy\, and embodiment before the sun begins to set. \nSunset Potluck\nWith sunset we gather to share a diverse feast. Bring a dish to share\, while we nourish one another through food and connection. \nSinging Circle Around the Fire\nAs night falls\, circle around the fire for a singing and music circle under the full moon. Connecting our hearts by sharing our voices and instruments. \nWhy Attend\n\nCelebrate the energy of the full moon with the Amora community\n\nShare a meaningful potluck\n\nGather around fire with music and songs\n\nDance\, sing and enjoy life together!\n\nLocation\nSacred Land at Amora\, Dominicalito\, Costa Rica \nWhat to Bring\n\nA dish to share (any cuisine welcome)\nYour authentic self\nAn instrument or song if you’d like to share\nOpen heart\n\nWho Should Attend\n\nCommunity members and residents\nFriends\, travelers\, musicians\, and anyone drawn to gather in spirit\nAll are welcome here\n\nWe are excited to celebrate the first full moon of the year with you!
URL:https://amora.cr/event/fullmoon-party-amora/
LOCATION:Amora Regenerative Eco Village\, Dominicalito\, Costa Rica
CATEGORIES:On the Land,Potluck
ATTACH;FMTTYPE=image/jpeg:https://amora.cr/wp-content/uploads/2025/12/community-full-moon-gathering-at-amora-in-costa-rica.jpg
END:VEVENT
END:VCALENDAR